BEGIN:VCALENDAR
VERSION:2.0
PRODID:-//Art by Amalia Maciuca - ECPv6.15.20//NONSGML v1.0//EN
CALSCALE:GREGORIAN
METHOD:PUBLISH
X-WR-CALNAME:Art by Amalia Maciuca
X-ORIGINAL-URL:https://amalia.art/de
X-WR-CALDESC:Veranstaltungen im Art by Amalia Maciuca
REFRESH-INTERVAL;VALUE=DURATION:PT1H
X-Robots-Tag:noindex
X-PUBLISHED-TTL:PT1H
BEGIN:VTIMEZONE
TZID:Europe/Zurich
BEGIN:DAYLIGHT
TZOFFSETFROM:+0100
TZOFFSETTO:+0200
TZNAME:CEST
DTSTART:20230326T010000
END:DAYLIGHT
BEGIN:STANDARD
TZOFFSETFROM:+0200
TZOFFSETTO:+0100
TZNAME:CET
DTSTART:20231029T010000
END:STANDARD
BEGIN:DAYLIGHT
TZOFFSETFROM:+0100
TZOFFSETTO:+0200
TZNAME:CEST
DTSTART:20240331T010000
END:DAYLIGHT
BEGIN:STANDARD
TZOFFSETFROM:+0200
TZOFFSETTO:+0100
TZNAME:CET
DTSTART:20241027T010000
END:STANDARD
BEGIN:DAYLIGHT
TZOFFSETFROM:+0100
TZOFFSETTO:+0200
TZNAME:CEST
DTSTART:20250330T010000
END:DAYLIGHT
BEGIN:STANDARD
TZOFFSETFROM:+0200
TZOFFSETTO:+0100
TZNAME:CET
DTSTART:20251026T010000
END:STANDARD
END:VTIMEZONE
BEGIN:VEVENT
DTSTART;TZID=Europe/Zurich:20240615T163000
DTEND;TZID=Europe/Zurich:20240615T173000
DTSTAMP:20260421T120717
CREATED:20240530T093042Z
LAST-MODIFIED:20240610T165226Z
UID:5519-1718469000-1718472600@amalia.art
SUMMARY:StudioLab Days 2024 - Guided tour of the festival
DESCRIPTION:Join Us for an Exclusive Guided Tour at StudioLab Days 2024! \nDiscover the innovative projects and master’s theses at the StudioLab Days 2024 festival.\nOn Saturday\, June 15\, together with Amalia\, we uncover thought-provoking installations\, performances\, and debates. \nMeet the artists and gain unique insights into their creative processes. Don’t miss this opportunity to explore contemporary art and engage with current social issues. \nRSVP today and witness the future of art unfold before your eyes! \nDate: Saturday\, June 15\, 2024\nTime: 16:30 – 17:30\nMeeting point: Südpol InfoPoint \nFor more details\, visit the official event page.
URL:https://amalia.art/de/event/studiolab-days-2024-2/
LOCATION:Südpol\, Arsenalstrasse 28\, Kriens\, 6010\, Switzerland
CATEGORIES:Art Events
END:VEVENT
END:VCALENDAR