BEGIN:VCALENDAR
VERSION:2.0
PRODID:-//Art by Amalia Maciuca - ECPv6.15.20//NONSGML v1.0//EN
CALSCALE:GREGORIAN
METHOD:PUBLISH
X-WR-CALNAME:Art by Amalia Maciuca
X-ORIGINAL-URL:https://amalia.art
X-WR-CALDESC:Events for Art by Amalia Maciuca
REFRESH-INTERVAL;VALUE=DURATION:PT1H
X-Robots-Tag:noindex
X-PUBLISHED-TTL:PT1H
BEGIN:VTIMEZONE
TZID:Europe/Zurich
BEGIN:DAYLIGHT
TZOFFSETFROM:+0100
TZOFFSETTO:+0200
TZNAME:CEST
DTSTART:20230326T010000
END:DAYLIGHT
BEGIN:STANDARD
TZOFFSETFROM:+0200
TZOFFSETTO:+0100
TZNAME:CET
DTSTART:20231029T010000
END:STANDARD
BEGIN:DAYLIGHT
TZOFFSETFROM:+0100
TZOFFSETTO:+0200
TZNAME:CEST
DTSTART:20240331T010000
END:DAYLIGHT
BEGIN:STANDARD
TZOFFSETFROM:+0200
TZOFFSETTO:+0100
TZNAME:CET
DTSTART:20241027T010000
END:STANDARD
BEGIN:DAYLIGHT
TZOFFSETFROM:+0100
TZOFFSETTO:+0200
TZNAME:CEST
DTSTART:20250330T010000
END:DAYLIGHT
BEGIN:STANDARD
TZOFFSETFROM:+0200
TZOFFSETTO:+0100
TZNAME:CET
DTSTART:20251026T010000
END:STANDARD
END:VTIMEZONE
BEGIN:VEVENT
DTSTART;TZID=Europe/Zurich:20240517T183000
DTEND;TZID=Europe/Zurich:20240517T203000
DTSTAMP:20260422T094445
CREATED:20240329T190119Z
LAST-MODIFIED:20240329T190119Z
UID:5408-1715970600-1715977800@amalia.art
SUMMARY:'The Cliff\, Étretat\, Sunset' by Claude Monet Acrylic Painting Workshop (17/05)
DESCRIPTION:
URL:https://amalia.art/event/the-cliff-etretat-sunset-by-claude-monet-acrylic-painting-workshop-17-05/
LOCATION:Kunstatelier\, Museggstrasse 50\, Luzern\, 6004\, Switzerland
CATEGORIES:Painting Workshops @Kunstatelier
ATTACH;FMTTYPE=image/jpeg:https://amalia.art/media/Painting-Workshop-Theme-01.03.2023.jpeg
ORGANIZER;CN="AmaliArt":MAILTO:contact@amalia.art
END:VEVENT
BEGIN:VEVENT
DTSTART;TZID=Europe/Zurich:20240524T183000
DTEND;TZID=Europe/Zurich:20240524T203000
DTSTAMP:20260422T094445
CREATED:20240329T191348Z
LAST-MODIFIED:20240329T191348Z
UID:5420-1716575400-1716582600@amalia.art
SUMMARY:Apple Painting Workshop (24/05)
DESCRIPTION:
URL:https://amalia.art/event/apple-painting-workshop-24-05/
LOCATION:Kunstatelier\, Museggstrasse 50\, Luzern\, 6004\, Switzerland
CATEGORIES:Painting Workshops @Kunstatelier
ATTACH;FMTTYPE=image/jpeg:https://amalia.art/media/Painting-Workshop-Theme-24.05.2024.jpeg
ORGANIZER;CN="AmaliArt":MAILTO:contact@amalia.art
END:VEVENT
BEGIN:VEVENT
DTSTART;TZID=Europe/Zurich:20240531T183000
DTEND;TZID=Europe/Zurich:20240531T203000
DTSTAMP:20260422T094445
CREATED:20240329T190456Z
LAST-MODIFIED:20240329T190456Z
UID:5412-1717180200-1717187400@amalia.art
SUMMARY:Landscape Acrylic Painting Workshop (31/05)
DESCRIPTION:
URL:https://amalia.art/event/landscape-acrylic-painting-workshop-31-05/
LOCATION:Kunstatelier\, Museggstrasse 50\, Luzern\, 6004\, Switzerland
CATEGORIES:Painting Workshops @Kunstatelier
ATTACH;FMTTYPE=image/jpeg:https://amalia.art/media/Painting-Workshop-Theme-08.03.2023.jpeg
ORGANIZER;CN="AmaliArt":MAILTO:contact@amalia.art
END:VEVENT
END:VCALENDAR